BEGIN:VCALENDAR
VERSION:2.0
PRODID:-//RIGHTHERE//CALENDARIZE IT V3.2//EN
BEGIN:VTIMEZONE
TZID:America/Chicago
X-MICROSOFT-CDO-TZID:11
BEGIN:STANDARD
DTSTART:20251102T070000
TZOFFSETFROM:-0500
TZOFFSETTO:-0600
TZNAME:CST
END:STANDARD
BEGIN:DAYLIGHT
DTSTART:20260308T080000
TZOFFSETFROM:-0600
TZOFFSETTO:-0500
TZNAME:CDT
END:DAYLIGHT
BEGIN:STANDARD
DTSTART:20261101T070000
TZOFFSETFROM:-0500
TZOFFSETTO:-0600
TZNAME:CST
END:STANDARD
END:VTIMEZONE
BEGIN:VEVENT
UID:8428-events@sacredheartbr.com
DTSTART;TZID=America/Chicago:20260430T173000
DTEND;TZID=America/Chicago:20260430T000000
DTSTAMP;TZID=America/Chicago:20260304T103115
SUMMARY:SHS Blue Volleyball Team vs. St. Thomas More
URL:https://sacredheartbr.com/events/shs-blue-volleyball-team-vs-st-thomas-
 more/
LOCATION:Sacred Heart of Jesus School Gym
END:VEVENT
END:VCALENDAR