BEGIN:VCALENDAR
VERSION:2.0
PRODID:-//RIGHTHERE//CALENDARIZE IT V3.2//EN
BEGIN:VTIMEZONE
TZID:America/Chicago
X-MICROSOFT-CDO-TZID:11
BEGIN:STANDARD
DTSTART:20251102T070000
TZOFFSETFROM:-0500
TZOFFSETTO:-0600
TZNAME:CST
END:STANDARD
BEGIN:DAYLIGHT
DTSTART:20260308T080000
TZOFFSETFROM:-0600
TZOFFSETTO:-0500
TZNAME:CDT
END:DAYLIGHT
BEGIN:STANDARD
DTSTART:20261101T070000
TZOFFSETFROM:-0500
TZOFFSETTO:-0600
TZNAME:CST
END:STANDARD
END:VTIMEZONE
BEGIN:VEVENT
UID:2641-events@sacredheartbr.com
DTSTART;TZID=America/Chicago:20180830T150500
DTEND;TZID=America/Chicago:20180830T163000
DTSTAMP;TZID=America/Chicago:20180626T211029
SUMMARY:FACULTY MEETING
RDATE;TZID=America/Chicago:20180927T150500,20181129T150500,20190110T150500,
 20190124T150500,20190207T150500,20190221T150500,20190328T150500,20190502T1
 50500
URL:https://sacredheartbr.com/events/faculty-meeting/
LOCATION:Sacred Heart of Jesus School Library
END:VEVENT
END:VCALENDAR